BEGIN:VCALENDAR
VERSION:2.0
PRODID:-//Vibecoding//Events//CS
CALSCALE:GREGORIAN
METHOD:PUBLISH
BEGIN:VEVENT
UID:evt_1774009148962_4422m68e6@vibecoding.cz
DTSTAMP:20260421T081724Z
DTSTART:20260420T180000
DTEND:20260420T200000
SUMMARY:Vibecoding Talks
DESCRIPTION:Neformální setkání vývojářů a zájemců o vibecoding. V hlavní roli nástroje pro podporu vývoje s AI. Krátká představení novinek v agentním vývoji a hands-on, rychlé představení toho, jak vibecoding kdo používá. Pozor: nová lokalita, Kino Dlabačov. 
URL:https://www.vibecoding.cz/akce/vibecoding-talks
STATUS:CONFIRMED
END:VEVENT
END:VCALENDAR